BEGIN:VCALENDAR
VERSION:2.0
PRODID:-//www.wetzikon.ch//NONSGML kigkonsult.se iCalcreator 2.22//
CALSCALE:GREGORIAN
METHOD:PUBLISH
X-WR-TIMEZONE','EUROPE/BERLIN:
BEGIN:VEVENT
UID:20260422T105024CEST-9261SGhFhJ@www.wetzikon.ch
DTSTAMP:20260422T085024Z
DESCRIPTION:Klicken Sie auf den folgenden Link\, um weitere Informationen z
 ur Veranstaltung zu erhalten:\nhttp://www.wetzikon.ch/de/veranstaltungen/d
 etail/detail.php?i=39
DTSTART:20260313T000000
LOCATION:Lordz Dance Academy
SUMMARY:Sport
END:VEVENT
END:VCALENDAR
