BEGIN:VCALENDAR
VERSION:2.0
PRODID:-//www.wetzikon.ch//NONSGML kigkonsult.se iCalcreator 2.22//
CALSCALE:GREGORIAN
METHOD:PUBLISH
X-WR-TIMEZONE','EUROPE/BERLIN:
BEGIN:VEVENT
UID:20260422T104208CEST-9230SVjsij@www.wetzikon.ch
DTSTAMP:20260422T084208Z
DESCRIPTION:Klicken Sie auf den folgenden Link\, um weitere Informationen z
 ur Veranstaltung zu erhalten:\nhttp://www.wetzikon.ch/de/veranstaltungen/d
 etail/detail.php?i=26
DTSTART:20260319T201500
DTEND:20260319T220000
LOCATION:Kino kultino
SUMMARY:Dies & Das
END:VEVENT
END:VCALENDAR
