BEGIN:VCALENDAR
VERSION:2.0
PRODID:-//www.wetzikon.ch//NONSGML kigkonsult.se iCalcreator 2.22//
CALSCALE:GREGORIAN
METHOD:PUBLISH
X-WR-TIMEZONE','EUROPE/BERLIN:
BEGIN:VEVENT
UID:20260420T104813CEST-7225fvupJi@www.wetzikon.ch
DTSTAMP:20260420T084813Z
DESCRIPTION:Klicken Sie auf den folgenden Link\, um weitere Informationen z
 ur Veranstaltung zu erhalten:\nhttp://www.wetzikon.ch/de/veranstaltungen/d
 etail/detail.php?i=26
DTSTART:20260320T200000
DTEND:20260320T000000
LOCATION:Scala Wetzikon
SUMMARY:Dies & Das
END:VEVENT
END:VCALENDAR
