BEGIN:VCALENDAR
VERSION:2.0
PRODID:-//www.wetzikon.ch//NONSGML kigkonsult.se iCalcreator 2.22//
CALSCALE:GREGORIAN
METHOD:PUBLISH
X-WR-TIMEZONE','EUROPE/BERLIN:
BEGIN:VEVENT
UID:20260420T104741CEST-4004XlozuD@www.wetzikon.ch
DTSTAMP:20260420T084741Z
DESCRIPTION:Klicken Sie auf den folgenden Link\, um weitere Informationen z
 ur Veranstaltung zu erhalten:\nhttp://www.wetzikon.ch/de/veranstaltungen/d
 etail/detail.php?i=31
DTSTART:20260314T200000
DTEND:20260314T000000
LOCATION:Scala Wetzikon
SUMMARY:Bühne
END:VEVENT
END:VCALENDAR
