BEGIN:VCALENDAR
VERSION:2.0
PRODID:-//www.wetzikon.ch//NONSGML kigkonsult.se iCalcreator 2.22//
CALSCALE:GREGORIAN
METHOD:PUBLISH
X-WR-TIMEZONE','EUROPE/BERLIN:
BEGIN:VEVENT
UID:20260420T104744CEST-61548wrzUM@www.wetzikon.ch
DTSTAMP:20260420T084744Z
DESCRIPTION:Klicken Sie auf den folgenden Link\, um weitere Informationen z
 ur Veranstaltung zu erhalten:\nhttp://www.wetzikon.ch/de/veranstaltungen/d
 etail/detail.php?i=38
DTSTART:20260325T190000
DTEND:20260325T220000
LOCATION:Garage Wetzikon
SUMMARY:Konzert Volkstümlich
END:VEVENT
END:VCALENDAR
